BEGIN:VCALENDAR
VERSION:2.0
PRODID:-//Rida Fund - ECPv4.0.5//NONSGML v1.0//EN
CALSCALE:GREGORIAN
METHOD:PUBLISH
X-WR-CALNAME:Rida Fund
X-ORIGINAL-URL:http://ridafund.org
X-WR-CALDESC:Events for Rida Fund
BEGIN:VEVENT
DTSTART;TZID="America/New_York":20190131T120000
DTEND;TZID="America/New_York":20190201T170000
DTSTAMP:20260423T155827
CREATED:20190125T181751
LAST-MODIFIED:20190125T182701
UID:111-1548936000-1549040400@ridafund.org
SUMMARY:Social Justice - A Prophetic Imperative
DESCRIPTION:
URL:http://ridafund.org/event/social-justice-a-prophetic-imperative/
LOCATION:123 Washington St\, Newark\, NJ\, 07102
ATTACH;FMTTYPE=image/jpeg:http://ridafund.org/wp-content/uploads/2019/01/Social-Justice-A-Prophetic-Imperative-edit4.jpg
END:VEVENT
END:VCALENDAR