BEGIN:VCALENDAR
VERSION:2.0
PRODID:-//Rida Fund - ECPv4.0.5//NONSGML v1.0//EN
CALSCALE:GREGORIAN
METHOD:PUBLISH
X-WR-CALNAME:Rida Fund
X-ORIGINAL-URL:http://ridafund.org
X-WR-CALDESC:Events for Rida Fund
BEGIN:VEVENT
DTSTART;TZID="UTC+0":20151106T192000
DTEND;TZID="UTC+0":20151106T230000
DTSTAMP:20260423T143546
CREATED:20151019T235921
LAST-MODIFIED:20151020T010146
UID:85-1446837600-1446850800@ridafund.org
SUMMARY:Muhammad
DESCRIPTION:
URL:http://ridafund.org/event/muhammad/
LOCATION:109 Olsen Ave\, Edion\, NJ\, 08820\, United States
END:VEVENT
END:VCALENDAR