BEGIN:VCALENDAR
VERSION:2.0
PRODID:-//Rida Fund - ECPv4.0.5//NONSGML v1.0//EN
CALSCALE:GREGORIAN
METHOD:PUBLISH
X-WR-CALNAME:Rida Fund
X-ORIGINAL-URL:http://ridafund.org
X-WR-CALDESC:Events for Rida Fund
BEGIN:VEVENT
DTSTART;TZID="UTC+0":20151113T193000
DTEND;TZID="UTC+0":20151113T230000
DTSTAMP:20260423T143536
CREATED:20151020T000245
LAST-MODIFIED:20151020T000245
UID:88-1447443000-1447455600@ridafund.org
SUMMARY:Islam 
DESCRIPTION:
URL:http://ridafund.org/event/islam/
LOCATION:205 NJ-35\, Keyport\, NJ\, 07735
END:VEVENT
END:VCALENDAR