BEGIN:VCALENDAR
VERSION:2.0
PRODID:-//Rida Fund - ECPv4.0.5//NONSGML v1.0//EN
CALSCALE:GREGORIAN
METHOD:PUBLISH
X-WR-CALNAME:Rida Fund
X-ORIGINAL-URL:http://ridafund.org
X-WR-CALDESC:Events for Rida Fund
BEGIN:VEVENT
DTSTART;TZID="UTC+0":20151030T192000
DTEND;TZID="UTC+0":20151030T230000
DTSTAMP:20260423T142715
CREATED:20151020T000156
LAST-MODIFIED:20151020T010219
UID:86-1446232800-1446246000@ridafund.org
SUMMARY:Iman
DESCRIPTION:
URL:http://ridafund.org/event/iman/
LOCATION:1000 Hoes Ln\,  Piscataway Township\, NJ\, 08854\, United States
END:VEVENT
END:VCALENDAR