BEGIN:VCALENDAR
VERSION:2.0
PRODID:-//Rida Fund - ECPv4.0.5//NONSGML v1.0//EN
CALSCALE:GREGORIAN
METHOD:PUBLISH
X-WR-CALNAME:Rida Fund
X-ORIGINAL-URL:http://ridafund.org
X-WR-CALDESC:Events for Rida Fund
BEGIN:VEVENT
DTSTART;TZID="UTC+0":20150410T100000
DTEND;TZID="UTC+0":20150410T190000
DTSTAMP:20260423T143704
CREATED:20150311T035924
LAST-MODIFIED:20150311T035924
UID:75-1428660000-1428692400@ridafund.org
SUMMARY:April 10: Reflection - ISCJ
DESCRIPTION:
URL:http://ridafund.org/event/april-10-reflection-iscj/
LOCATION:4145 U.S. 1\, Monmouth Junction\, NJ\, 08852\, United States
END:VEVENT
END:VCALENDAR